BEGIN:VCALENDAR
VERSION:2.0
PRODID:-//wp-events-plugin.com//7.2.3.1//EN
BEGIN:VEVENT
UID:68@seinklangnatur.ch
DTSTART;TZID=Europe/Zurich:20260606T120000
DTEND;TZID=Europe/Zurich:20260606T150000
DTSTAMP:20260103T134325Z
URL:https://seinklangnatur.ch/events/06-06-2026-die-kraft-der-baeume-baumr
 ituale-tiefe-verbundenheit/
SUMMARY:06.06.2026 Die Kraft der Bäume – Baumrituale & tiefe Verbundenhe
 it
DESCRIPTION:Die Kraft der Bäume - Wurzeln spüren – Krone weiten\nSpüre
  deine Wurzeln. Weite deine Krone. Erinnere dich an deinen Platz im große
 n Geflecht des Lebens.\nIn diesem berührenden Naturworkshop mit schamanis
 chen Elementen tauchen wir gemeinsam in die heilsame Kraft der Bäume ein.
  Alte Baumwesen sind weise Lehrer\, Hüter der Erde und Brücken zwischen 
 Himmel und Wurzelwelt. Sie schenken uns Ruhe\, Klarheit und erinnern uns d
 aran\, wer wir in Wahrheit sind.\n\nEin Workshop für Erdung\, Seelenverbi
 ndung &amp\; Rückkehr zur Natur\nWir treffen uns an einem stillen Kraftor
 t im Wald. Dort darfst du ganz bei dir ankommen...barfuss auf weichem Wald
 boden\, getragen vom Atem der Natur. Du erfährst\, wie Bäume als spiritu
 elle Begleiter wirken und welche besonderen Qualitäten sie in sich tragen
 :\n\n\n 	Die Eiche mit ihrer uralten Stärke\n 	Die Linde mit ihrer Herzö
 ffnung\n 	Die Birke als Hüterin des Neuanfangs\n\nInhalte des Workshops d
 ie Kraft der Bäume:\n\n 	Wahrnehmungsübungen zur Öffnung deiner Sinne\n
  	Achtsame Begegnung mit deinem persönlichen Kraftbaum\n 	Schamanische Re
 ise zur Botschaft des Baumgeistes\n 	Baumritual zur Erdung &amp\; inneren 
 Ausrichtung\n 	Gestalten eines Baumamuletts oder Natursymbols zur Erinneru
 ng\n\nDieser Workshop ist mehr als ein Ausflug in den Wald. Er ist eine Ei
 nladung\, in tiefe Verbindung mit dir selbst und der Natur zu treten. Die 
 Bäume sprechen...du wirst sie hören\, wenn du still wirst.\n\nFür wen i
 st dieser Workshop geeignet?\nFür Menschen\, die sich nach Erdung\, inner
 er Ruhe und spiritueller Naturverbindung sehnen. Vorkenntnisse sind nicht 
 nötig...nur Offenheit\, Barfussmut und Herz.\n\n\n\nDauer: ca. 3 StundenO
 rt: Waldkraftplatz in der Natur im Jonental bei Jonen (genaue Infos nach A
 nmeldung)Beitrag: 99 ChfMitbringen: Sitzunterlage\, wetterfeste Kleidung\,
  Wasser\, kleines Naturgeschenk (z. B. Stein\, Blume)\n\n\n\nErinnere di
 ch\, wie es sich anfühlt\, getragen zu sein. Verwurzelt. Frei.Melde dich 
 jetzt an und folge dem Ruf des Waldes.\nPlätze sind begrenzt – achtsame
 r Raum für tiefe Begegnung.\nHerzlichst Jana
ATTACH;FMTTYPE=image/jpeg:https://seinklangnatur.ch/app/uploads/2025/05/di
 e-waldhueterin-und-der-eichenbaum1-e1747228069339.png
CATEGORIES:Frauenkreise/ Heilpflanzen- pfade / Pflanzenwesen
 begegnen,Kurse &amp; Events
LOCATION:Kraftplatz Nahe Waldhütte Jonen\, Waldhütte Jonen\, Jonen\, 8909
 \, Schweiz
X-APPLE-STRUCTURED-LOCATION;VALUE=URI;X-ADDRESS=Waldhütte Jonen\, Jonen\, 
 8909\, Schweiz;X-APPLE-RADIUS=100;X-TITLE=Kraftplatz Nahe Waldhütte Jonen
 :geo:0,0
END:VEVENT
BEGIN:VTIMEZONE
TZID:Europe/Zurich
X-LIC-LOCATION:Europe/Zurich
BEGIN:DAYLIGHT
DTSTART:20260329T030000
TZOFFSETFROM:+0100
TZOFFSETTO:+0200
TZNAME:CEST
END:DAYLIGHT
END:VTIMEZONE
END:VCALENDAR