BEGIN:VCALENDAR
VERSION:2.0
PRODID:-//wp-events-plugin.com//7.2.3.1//EN
BEGIN:VEVENT
UID:61@seinklangnatur.ch
DTSTART;TZID=Europe/Zurich:20260815T170000
DTEND;TZID=Europe/Zurich:20260815T200000
DTSTAMP:20260120T111228Z
URL:https://seinklangnatur.ch/events/15-08-26-neumondkreis-fuer-frauen-ver
 binde-dich-mit-deiner-ur-weiblichkeit/
SUMMARY:15.08.26 Neumondkreis für Frauen – Verbinde dich mit deiner Ur-W
 eiblichkeit
DESCRIPTION:&#x2728\; Neumond-Ritual für Frauen – Rückkehr zu deiner Ur
 -Weiblichkeit &#x2728\;\n15. August 2026 | 17:00 UhrZwillikon im Jonental(
 Die genaue Adresse erhältst du nach deiner Anmeldung)\nWenn die Welt stil
 ler wird und der Neumond seine sanfte Schwärze über das Land legt\, öff
 nen wir unter dem schützenden Blätterdach von Mutter Natur einen heilige
 n Raum.Einen Raum\, in dem du atmen darfst. Fühlen darfst. Sein darfst.\n
 Im Kreis von Frauen\, gehalten von Erde\, Feuer\, Wasser und Wind\, tauche
 n wir gemeinsam ein in das\, was uns im Kern ausmacht: die Urkraft unseres
  Frauseins.Ein Zurücklehnen in deine Tiefe.Ein Erinnern an das\, was in d
 ir längst ruht.Ein Wiederfinden jener leisen Stimme\, die dich ruft\, wen
 n die Welt um dich herum zu laut wird.\nIn unserem Schwesternkreis darfst 
 du:\nDeine Ur-Weiblichkeit wachrufen – sanft\, kraftvoll\, ursprünglich
 Die Weite und Tiefe deines Frauseins neu entdeckenDich selbst spüren – 
 im Körper\, im Herzen\, im AtemDich dem Fluss des Lebens hingeben\, ohne 
 etwas leisten zu müssenDie Qualitäten der Langsamkeit\, Achtsamkeit und 
 Erdung verkörpernDie heilsame Präsenz der Natur als Spiegel deiner eigen
 en inneren Natur erfahren\nMit jedem Atemzug\, jedem Schritt auf dem weich
 en Waldboden\, jedem Moment der Stille erinnern wir uns daran\, wer wir im
  Innersten sind: zyklische\, fühlende\, leuchtende Wesen voller Weisheit.
 \nDer Neumond trägt uns hinein in einen Neubeginn...eine Einladung\, losz
 ulassen\, zu empfangen und dir selbst wieder näher zu kommen.\n\nFühlst 
 du den Ruf zum Neumond Ritual für Frauen?\nDann sei von Herzen willkommen
 .Lass dich erinnern\, nähren und tragen vom Schwesternkreis\, vom Mond\, 
 von der Natur.\nBitte bring mit:\n&#x2728\; Kleidung\, die dich frei beweg
 en und tief atmen lässt&#x2728\; Eine Decke oder Sitzunterlage&#x2728\; E
 twas zum Trinken&#x2728\; Einen persönlichen Gegenstand für unseren geme
 insamen Kraftkreis(z. B. einen Stein\, eine Blume\, ein Symbol aus deinem 
 Herzen)\nWir freuen uns auf dich\, auf dein Licht\, deine Präsenz\, dein 
 Sein.Auf all das\, was du mit in diesen heiligen Abend bringst.\nVon Herz 
 zu Herz\,Saendy &amp\; Jana
ATTACH;FMTTYPE=image/jpeg:https://seinklangnatur.ch/app/uploads/2025/11/fr
 auenkreis-neumond-e1763392433891.png
CATEGORIES:Frauenkreise/ Heilpflanzen- pfade / Pflanzenwesen
 begegnen,Kurse &amp; Events
LOCATION:Kraftplatz Nahe Waldhütte Jonen\, Waldhütte Jonen\, Jonen\, 8909
 \, Schweiz
X-APPLE-STRUCTURED-LOCATION;VALUE=URI;X-ADDRESS=Waldhütte Jonen\, Jonen\, 
 8909\, Schweiz;X-APPLE-RADIUS=100;X-TITLE=Kraftplatz Nahe Waldhütte Jonen
 :geo:0,0
END:VEVENT
BEGIN:VTIMEZONE
TZID:Europe/Zurich
X-LIC-LOCATION:Europe/Zurich
BEGIN:DAYLIGHT
DTSTART:20260329T030000
TZOFFSETFROM:+0100
TZOFFSETTO:+0200
TZNAME:CEST
END:DAYLIGHT
END:VTIMEZONE
END:VCALENDAR