BEGIN:VCALENDAR
VERSION:2.0
PRODID:-//wp-events-plugin.com//7.2.3.1//EN
BEGIN:VEVENT
UID:67@seinklangnatur.ch
DTSTART;TZID=Europe/Zurich:20260517T140000
DTEND;TZID=Europe/Zurich:20260517T173000
DTSTAMP:20260327T131032Z
URL:https://seinklangnatur.ch/events/17-05-2026-therapeutisches-raeuchern/
SUMMARY:17.05.2026 Therapeutisches Räuchern - Räucherworkshop
DESCRIPTION:Therapeutisches Räuchern – Heilsame Wege mit dem Rauch\nRäu
 chern ist eine kraftvolle\, uralte Praxis\, die uns seit Jahrhunderten beg
 leitet. Ein Ritual\, das Körper\, Geist und Seele miteinander verbindet u
 nd uns auf sanfte Weise zurück in unsere Mitte führt. In meinem Workshop
  „Therapeutisches Räuchern“ lade ich dich dazu ein\, die heilsame Wel
 t des Rauchs in ihrer ganzen Tiefe zu erfahren. Du lernst\, wie du den Rau
 ch achtsam\, bewusst und therapeutisch einsetzen kannst\, um dein Energief
 eld zu klären\, Räume zu reinigen und innere Prozesse liebevoll zu begle
 iten.\nDer Rauch steht dabei im Zentrum. Er ist nicht nur Träger der Pfla
 nzenkraft\, sondern auch ein Bote zwischen den Welten...zwischen sichtbar 
 und unsichtbar\, grobstofflich und feinstofflich. Viele Menschen spüren i
 nstinktiv\, wie wohltuend und unterstützend Rauch wirken kann. In diesem 
 Workshop erlebst du es hautnah: Wie sich der Rauch in deinem Feld anfühlt
 \, wie er dich einhüllt\, wie er Verhärtungen löst\, Blockaden sanft be
 rührt und Räume wieder weich und lebendig macht.\n\nDie heilsame Kraft d
 es Räucherns verstehen und anwenden\nRäuchern ist weit mehr als ein sch
 önes Ritual oder ein angenehmer Duft. Es ist ein Werkzeug\, das seit jehe
 r für Reinigung\, Stärkung\, Heilung\, Schutz und Transformation genutzt
  wird. Viele Menschen spüren heute wieder den Ruf\, sich mit den Pflanzen
  und ihren Rauchbotschaften zu verbinden – nicht nur spirituell\, sonder
 n auch in einer achtsamen\, therapeutischen Form.\nGenau hier setzt der Wo
 rkshop an: Du lernst\, wie du Rauch als heilsame Begleitung in deinem Allt
 ag nutzen kannst\, wie du ihn für dich selbst einsetzt und wie du energet
 ische Räume kraftvoll und klar gestaltest.\n\nWas du im Workshop lernen w
 irst\nDer Kurs ist praxisnah aufgebaut\, damit du nicht nur Wissen erhält
 st\, sondern durch eigenes Erleben verstehst\, wie tiefgreifend Räuchern 
 wirken kann.\n\n1. Reinigung &amp\; Heilung des eigenen Energiefeldes\nWie
  nehme ich wahr\, was in meinem Feld los ist?Wie reinigt Rauch sanft emoti
 onale und energetische Spannungen?Kann ich fühlen\, wann es genug ist?\nW
 ir gehen Schritt für Schritt in die Wahrnehmung\, du lernst verschiedene 
 Methoden zur energetischen Reinigung\, zur Stärkung deiner Aura und zur H
 armonisierung deines Gesamtsystems.\n\n2. Energetische Raumreinigung – H
 aus- und Wohnungsräucherungen verstehen\nEin Raum speichert Energien\, Em
 otionen und Atmosphären. Mit einer achtsamen Räucherung kannst du ihn wi
 eder klar\, leicht und lebendig machen.\nIm Workshop erfährst du:\n\n\n 	
 Wann ist eine Hausräucherung sinnvoll?\n 	Welche Kräuter und Harze eigne
 n sich wofür?\n 	Wie führe ich eine vollständige Reinigung durch?\n 	We
 lche Schritte braucht es\, um abschließend zu segnen oder zu energetisier
 en?\n\nDu erlernst eine strukturierte und sichere Vorgehensweise\, die du 
 später zu Hause jederzeit anwenden kannst.\n\n3. Der Räucherschemel – 
 ein uraltes Werkzeug neu entdeckt\nViele kennen ihn nicht\, doch der Räuc
 herschemel ist ein tief wirkungsvolles Hilfsmittel im therapeutischen Räu
 chern.Du erfährst:\n\n\n 	wie du den Räucherschemel sicher und zielgeric
 htet einsetzt\n 	bei welchen Themen er besonders unterstützt\n 	wie du da
 mit den Unterbau des Körpers\, das Becken\, die Beine und das Wurzelsyste
 m energetisch stärken kannst\n\nDurch die Anwendung erlebst du unmittelba
 r\, wie tief der Rauch wirkt\, wenn der Körper bewusst geöffnet wird.\n\
 n4. Das Räuchertuch – ein heilsamer Mantel aus Pflanzenkraft\nEin Räuc
 hertuch schenkt Geborgenheit und Schutz\, es ist wie ein sanfter Mantel au
 s Pflanzenkraft. Du lernst:\n\n\n 	wie du ein Räuchertuch richtig anwende
 st\n 	wie du Körperbereiche gezielt einhüllst\n 	wie du damit emotionale
  Prozesse begleiten kannst\n\nEs ist ein Werkzeug\, das besonders bei sens
 iblen oder überreizten Menschen tief berührend wirkt.\n\n5. Harze &amp\;
  Kräutermischungen – Pflanzenkraft im Rauch erkennen\nDu bekommst einen
  Einblick in verschiedene Harze und Kräuter\, erfährst ihre grobstofflic
 he und feinstoffliche Wirkung und lernst\, wofür sie sich besonders eigne
 n.\nZum Beispiel:\n\n\n 	Harze für Reinigung und Schutz\n 	Kräuter für 
 Öffnung und Herzraum\n 	Pflanzen für Zentrierung\, Mut und Klarheit\n 	M
 ischungen für therapeutische Prozesse\n\nDu erfährst\, wie du intuitiv u
 nd zugleich fachkundig auswählst\, welche Mischung dich oder andere Mensc
 hen unterstützt.\n\n6. Moxen – Wärme\, Vitalität &amp\; tiefgehende E
 nergiearbeit\n„Wie funktioniert Moxen?“Im Workshop zeige ich dir:\n\n\
 n 	die Wirkung der Wärmebehandlung durch Beifuß\n 	wie du Moxen sicher a
 nwendest\n 	bei welchen körperlichen und energetischen Themen es besonder
 s hilfreich ist\n\nEs ist eine alte Technik\, die Körper und Energiefluss
  gleichermaßen anspricht.\n\nPraktische Übungen für Vertrauen &amp\; Si
 cherheit\nDer Workshop lebt von der Praxis. Du wirst selbst räuchern\, f
 ühlen\, ausprobieren und wahrnehmen. Durch die gemeinsamen Übungen erlan
 gst du einen sicheren\, geerdeten und verantwortungsvollen Umgang mit dein
 em Rauchwerk – sodass du es später für dich oder andere sinnvoll einse
 tzen kannst.\n\nKleingruppen für Tiefe &amp\; Verbundenheit\nDer Kurs fin
 det bewusst in Kleingruppen statt. Dadurch entsteht ein geschützter Raum\
 , in dem du offen erleben\, nachspüren und Fragen stellen kannst. Jeder K
 urs ist individuell geprägt von den Menschen\, die zusammenkommen\, und d
 er Energie des Moments.\n\nWichtiger Hinweis\nDieser Kurs ersetzt keinesfa
 lls den Besuch bei einem Arzt\, Heilpraktiker oder Therapeuten. Räuchern 
 kann wertvoll unterstützen – jedoch niemals eine medizinische oder ther
 apeutische Behandlung ersetzen.\n\nFür wen ist dieser Workshop geeignet?\
 n\n 	Für Menschen\, die ihr Energiefeld pflegen wollen\n 	Für Menschen\,
  die Räume bewusst reinigen und gestalten möchten\n 	Für alle\, die Rau
 charbeit in ihrer Praxis integrieren wollen\n 	Für feinfühlige Menschen\
 , die eine sanfte Methode zur Selbstfürsorge suchen\n 	Für alle\, die Pf
 lanzenkraft und Schamanismus lieben\n\nTauche ein in die Welt des heilsame
 n Rauchs\nWenn du spürst\, dass der Ruf des Rauchs dich erreicht\, wenn d
 u neugierig bist\, wie Räuchern dein eigenes Leben und deine energetische
  Präsenz unterstützen kann\, dann bist du in diesem Workshop genau richt
 ig.\nIch freue mich darauf\, dich mit deiner Essenz\, deiner Kraft und dei
 nem inneren Feuer zu verbinden...im Kreis\, im Rauch\, im Einklang mit der
  Natur.\nHerzlichst Jana\n\n&nbsp\;
ATTACH;FMTTYPE=image/jpeg:https://seinklangnatur.ch/app/uploads/2025/11/th
 erapeutisches-raeuchern-e1767443188703.jpeg
CATEGORIES:Kurse &amp; Events,Räuchern
LOCATION:Klangraum Gong Center\, Alte Affolterstrasse 2a\, Zwillikon Gemein
 de Affoltern am Albis\, 8909\, Schweiz
X-APPLE-STRUCTURED-LOCATION;VALUE=URI;X-ADDRESS=Alte Affolterstrasse 2a\, Z
 willikon Gemeinde Affoltern am Albis\, 8909\, Schweiz;X-APPLE-RADIUS=100;X
 -TITLE=Klangraum Gong Center:geo:0,0
END:VEVENT
BEGIN:VTIMEZONE
TZID:Europe/Zurich
X-LIC-LOCATION:Europe/Zurich
BEGIN:DAYLIGHT
DTSTART:20260329T030000
TZOFFSETFROM:+0100
TZOFFSETTO:+0200
TZNAME:CEST
END:DAYLIGHT
END:VTIMEZONE
END:VCALENDAR