BEGIN:VCALENDAR
VERSION:2.0
PRODID:-//wp-events-plugin.com//7.2.3.1//EN
BEGIN:VEVENT
UID:72@seinklangnatur.ch
DTSTART;TZID=Europe/Zurich:20260530T160000
DTEND;TZID=Europe/Zurich:20260530T180000
DTSTAMP:20260107T095651Z
URL:https://seinklangnatur.ch/events/30-05-2026-handgeruehrte-salben-selbs
 t-herstellen/
SUMMARY:30.05.2026 Handgerührte Salben selbst herstellen
DESCRIPTION:Handgerührte Salben selbst herstellen – ein Kurs für die Se
 ele und die Sinne\nIn einer Zeit\, in der wir von schnellen Lösungen und 
 industriell gefertigten Produkten umgeben sind\, wächst in vielen von uns
  der Wunsch nach Rückbesinnung\, nach echten\, natürlichen und mit Liebe
  gemachten Dingen. Die Kunst der Salbenherstellung ist eine solche alte Tr
 adition. Sie verbindet dich tief mit der Kraft der Pflanzen\, mit dir selb
 st und mit dem uralten Wissen unserer Vorfahren.\nIn diesem liebevoll gest
 alteten Workshop " Handgerührte Salben selbst herstellen " lade ich dich 
 ein\, gemeinsam mit mir in die Welt der handgerührten Kräutersalben einz
 utauchen. Du lernst nicht nur die praktischen Grundlagen...du erfährst au
 ch\, wie du deiner Intuition und dem Wesen der Pflanzen wieder mehr Raum g
 ibst.\nIn diesen zwei intensiven Stunden zeige ich dir Schritt für Schrit
 t\, wie du aus einfachen\, natürlichen Zutaten wie Pflanzenölen\, Bienen
 wachs und Kräuterauszügen deine eigene Heilsalbe herstellst...ganz indiv
 iduell und auf deine Bedürfnisse abgestimmt. Du lernst:\n\n\n 	Welche Gru
 ndzutaten du brauchst\n 	Wie du sie richtig dosierst und mischst\n 	Wie du
  mit Ölauszügen und ätherischen Ölen arbeitest\n 	Wie du die passende 
 Wärmequelle nutzt\n 	Worauf du beim Schmelzen und Rühren achten solltest
 \n 	Und natürlich\, wie du deine fertige Salbe sicher abfüllst\n\nDu dar
 fst dir die Salbe selbst zusammenstellen. Egal ob für raue Winterhände\,
  verspannte Muskeln\, kleinere Hautverletzungen oder als Seelenschmeichler
  mit entspannender Lavendelnote. Am Ende nimmst du ein kleines Gläschen d
 uftender Pflanzenkraft mit nach Hause und auch ein Skript mit allem Wissen
  zum Nachlesen\, viel Inspiration und das gute Gefühl\, etwas Wertvolles 
 selbst geschaffen zu haben.\nDie kleine Gruppengröße schafft Raum für F
 ragen\, Austausch und eine vertraute Atmosphäre.\nIch freue mich von Herz
 en darauf\, dir dieses alte Handwerk zu zeigen durch Zeit\, Hingabe und vi
 el Liebe zur Natur. Lass uns gemeinsam rühren\, lauschen\, riechen und st
 aunen.\nDeine eigene handgerührte Salbe wartet schon auf dich.
ATTACH;FMTTYPE=image/jpeg:https://seinklangnatur.ch/app/uploads/2025/03/sa
 lbenherstellung-2-e1742887715652.webp
CATEGORIES:Kurse &amp; Events,Salbenherstellung
LOCATION:Klangraum Gong Center\, Alte Affolterstrasse 2a\, Zwillikon Gemein
 de Affoltern am Albis\, 8909\, Schweiz
X-APPLE-STRUCTURED-LOCATION;VALUE=URI;X-ADDRESS=Alte Affolterstrasse 2a\, Z
 willikon Gemeinde Affoltern am Albis\, 8909\, Schweiz;X-APPLE-RADIUS=100;X
 -TITLE=Klangraum Gong Center:geo:0,0
END:VEVENT
BEGIN:VTIMEZONE
TZID:Europe/Zurich
X-LIC-LOCATION:Europe/Zurich
BEGIN:DAYLIGHT
DTSTART:20260329T030000
TZOFFSETFROM:+0100
TZOFFSETTO:+0200
TZNAME:CEST
END:DAYLIGHT
END:VTIMEZONE
END:VCALENDAR