BEGIN:VCALENDAR
VERSION:2.0
PRODID:-//wp-events-plugin.com//7.2.3.1//EN
BEGIN:VEVENT
UID:4121@seinklangnatur.ch
DTSTART;TZID=Europe/Zurich:20260518T190000
DTEND;TZID=Europe/Zurich:20260518T203000
DTSTAMP:20260409T084729Z
URL:https://seinklangnatur.ch/events/kraeuterabend-in-rifferswil-eintauche
 n-in-die-welt-der-kraeuter-des-raeucherns/
SUMMARY:Kräuterabend in Rifferswil – Eintauchen in die Welt der Kräuter
  & des Räucherns
DESCRIPTION:Ein kostenloser Kräuterabend in Rifferswil...für alle\, die d
 ie Kraft der Pflanzen neu entdecken möchten.\nWir laden dich von Herzen e
 in\, mit uns in die magische Welt der Kräuter und des Räucherns einzutau
 chen. Dieser besondere Abend ist eine Einladung\, die Natur nicht nur mit 
 dem Verstand\, sondern mit allen Sinnen zu erleben.\n&#x2728\; Beginn: 19:
 00 Uhr&#x2728\; Dauer: ca. 1\,5 Stunden&#x2728\; Ort: Rifferswil&#x2728\; 
 Kosten: kostenlos\n\n\n\n\nWarum ein Kräuterabend in Rifferswil?\nIn eine
 r Zeit\, in der vieles schnell und digital geworden ist\, wächst in viele
 n Menschen die Sehnsucht nach Erdung\, nach echtem Kontakt mit der Natur u
 nd mit sich selbst. Genau hier setzt unser Kräuterabend an.\nRifferswil b
 ietet mit seiner natürlichen Umgebung den perfekten Rahmen\, um Heilpflan
 zen\, Wildkräuter und Räucherkräuter neu zu entdecken. An diesem Abend 
 öffnen wir einen geschützten Raum\, in dem du:\n\n\n 	die Welt der heimi
 schen Kräuter kennenlernen kannst\n 	erste Einblicke ins Räuchern mit Pf
 lanzen erhältst\n 	Pflanzen mit allen Sinnen erfahren darfst\n 	unsere Ar
 beit und unsere Herzensvision kennenlernst\n 	dich mit Gleichgesinnten aus
 tauschen kannst\n\nDieser kostenlose Info- und Erlebnisabend ist bewusst o
 ffen gestaltet\, es geht nicht um Konsum\, sondern um Begegnung.\n\n\n\n\n
 Räuchern lernen – die Kraft der Pflanzen neu entdecken\nDas Räuchern m
 it Kräutern ist eine uralte Tradition\, die in vielen Kulturen verwurzelt
  ist. Schon unsere Vorfahren nutzten Heilpflanzen\, um Räume zu klären\,
  Rituale zu begleiten oder innere Prozesse zu unterstützen.\nAn unserem K
 räuterabend in Rifferswil zeigen wir auch:\n&#x1f33f\; Welche Kräuter si
 ch besonders gut zum Räuchern eignen&#x1f33f\; Wie Pflanzen energetisch w
 irken können&#x1f33f\; Wie Räucherrituale im Alltag integriert werden k
 önnen&#x1f33f\; Wie du deine eigene Verbindung zu Pflanzen stärkst\nDabe
 i geht es um lebendige Erfahrung. Du darfst riechen\, fühlen\, lauschen\,
  wahrnehmen.\n\n\n\n\nEin Abend zum Ankommen – in dir und in der Natur\n
 Vielleicht spürst du schon länger den Wunsch\, mehr über Heilpflanzen z
 u erfahren oder es zieht dich das Thema Räuchern an. Vielleicht suchst du
  einfach einen achtsamen Abend in schöner Atmosphäre.\nUnser Kräuterabe
 nd ist genau dafür da.\nNicole und ich öffnen gemeinsam einen Raum\, in 
 dem du:\n\n\n 	entschleunigen kannst\n 	dich mit der Pflanzenwelt verbinde
 n darfst\n 	Inspiration für deinen Alltag bekommst\n 	unsere Welt der Kr
 äuter und Rituale kennenlernen kannst\n\nWir erzählen von unserer persö
 nlichen Reise mit den Pflanzen\, von Erfahrungen\, von Begegnungen\, von M
 omenten\, die uns tief berührt haben. Denn für uns sind Kräuter nicht n
 ur Pflanzen...sie sind Lehrerinnen\, Begleiterinnen\, Wesen mit einer eige
 nen Sprache.\n\n\n\n\nFür wen ist dieser Kräuterabend geeignet?\nDieser 
 Abend ist für dich\, wenn du:\n&#x2714\; dich für Kräuter und Heilpflan
 zen interessierst&#x2714\; Räuchern in der Schweiz kennenlernen möchtest
 &#x2714\; Naturspiritualität oder Pflanzenrituale entdecken willst&#x2714
 \; neugierig auf unsere Arbeit bist&#x2714\; einen kostenlosen\, inspirier
 enden Abend in Rifferswil suchst\nDu brauchst keinerlei Vorkenntnisse. Off
 enheit genügt.\n\n\n\n\nKostenloser Info- und Erlebnisabend\nDieser Kräu
 terabend in Rifferswil ist kostenlos. Warum?Weil wir dir die Möglichkeit 
 geben möchten\, uns kennenzulernen und unsere Arbeit mit Kräutern\, Ritu
 alen und Naturverbundenheit.\nEs ist ein Abend des Hineinschnupperns. Ein 
 Abend zum Fühlen\, Erleben und Fragenstellen. Wenn dich unsere Welt berü
 hrt\, freuen wir uns natürlich\, dich vielleicht in einem unserer Worksho
 ps oder vertiefenden Angebote wiederzusehen.\nAber zuerst geht es einfach 
 um Begegnung.\n\n\n\n\nDie Magie liegt im Erleben\nKräuter wollen erlebt 
 werden.Wenn der Duft von getrocknetem Beifuss aufsteigt\, wenn Harze langs
 am verglimmen\, wenn sich Stille im Raum ausbreitet\, dann entsteht etwas\
 , das Worte kaum beschreiben können.\nUnser Wunsch für diesen Abend:\nDa
 ss du dich erinnerst.&gt\;An deine eigene Verbindung zur Natur.&gt\;An dei
 ne Wurzeln.&gt\;An das Wissen\, das vielleicht schon lange in dir schlumme
 rt.\n\n\n\n\nKräuterabend Rifferswil – Deine Einladung\nWir freuen uns 
 von Herzen\, wenn du Teil dieses besonderen Abends wirst.\n&#x1f4cd\; Ort:
  Rifferswil&#x1f556\; Beginn: 19:00 Uhr&#x23f3\; Dauer: ca. 1\,5 Stunden&#
 x1f49a\; Beitrag: kostenlos\nLass uns gemeinsam eintauchen in die Welt der
  Kräuter\, des Räucherns und der Naturverbundenheit.\nNicole &amp\; Jana
  &#x1f33f\;
ATTACH;FMTTYPE=image/jpeg:https://seinklangnatur.ch/app/uploads/2026/02/fl
 yer-kraeuterabend-webseite-e1771322795286.png
CATEGORIES:Kurse &amp; Events,Räuchern
LOCATION:Kräutereck Rifferswil\, Hauserstrasse 4\, Rifferswil\, ZH\, 8911\
 , Schweiz
X-APPLE-STRUCTURED-LOCATION;VALUE=URI;X-ADDRESS=Hauserstrasse 4\, Rifferswi
 l\, ZH\, 8911\, Schweiz;X-APPLE-RADIUS=100;X-TITLE=Kräutereck Rifferswil:
 geo:0,0
END:VEVENT
BEGIN:VTIMEZONE
TZID:Europe/Zurich
X-LIC-LOCATION:Europe/Zurich
BEGIN:DAYLIGHT
DTSTART:20260329T030000
TZOFFSETFROM:+0100
TZOFFSETTO:+0200
TZNAME:CEST
END:DAYLIGHT
END:VTIMEZONE
END:VCALENDAR