BEGIN:VCALENDAR
VERSION:2.0
PRODID:-//wp-events-plugin.com//7.2.3.1//EN
BEGIN:VEVENT
UID:76@seinklangnatur.ch
DTSTART;TZID=Europe/Zurich:20260919T090000
DTEND;TZID=Europe/Zurich:20260919T150000
DTSTAMP:20260319T123044Z
URL:https://seinklangnatur.ch/events/raeuchern-handgefertigte-raeucherscha
 le-selbst-herstellen/
SUMMARY:19.09.2026  Räuchern ohne Sieb und Kohle – Handgefertigte Räuch
 erschale selbst herstellen
DESCRIPTION:In diesem besonderen Gemeinschafts-Workshop verbinden sich zwei
  alte Künste:\ndas Formen von Ton\, indem wir eine handgefertigte Räuche
 rschale selbst herstellen und das magische Räuchern ohne Sieb und Kohle 
 – achtsam\, natürlich und tief verwurzelt im Wissen der Pflanzen.\n&#x2
 728\; Was dich erwartet\n\nTeil 1 – Deine persönliche Räucherschale (K
 eramik · ca. 3 Stunden)\nMit deinen eigenen Händen formst du eine indiv
 iduelle Räucherschale aus Ton.\nSchlicht\, kraftvoll\, zeitlos – ein Ge
 fäss\, das dich viele Jahre begleiten darf.\nEinführung in die Handaufba
 utechnik\nRaum für Intuition\, Formgefühl und Ruhe\nDeine Schale wird na
 ch dem Workshop gebeannt und glasiert.\nAbholung nach dem Brand (ca. 2–
 3 Wochen später).\n\nHier geht es nicht um Perfektion\, sondern um Präse
 nz. Um das Spüren. Um das Tun.\n\nTeil 2 – Magisches Räuchern ohne Sie
 b &amp\; Kohle (ca. 2\,5–3 Stunden)\n\nIm zweiten Teil tauchen wir ein i
 n die ursprüngliche Kunst des Räucherns –\nohne Kohle\, ohne Salpeter\
 , ohne künstliche Duftstoffe.\n\nDu lernst:\ndie Wirkung einheimischer Kr
 äuter und Harze (auf körperlicher und feinstofflicher Ebene) welche Pfla
 nzen dich bei Reinigung\, Erdung\, Herzöffnung oder Vision unterstützen\
 , wie du deine eigene Räuchermischung herstellst – intuitiv\, achtsam
  und getragen von deiner Intention.\n\nDiese Räuchermethode entfaltet ihr
 en Rauch sanft und stetig\, lädt zur inneren Einkehr ein und eignet sich
  wunderbar für Aura- und Hausreinigungen.\nDeine selbstgemachte Mischung 
 träg deine Energie. Ein stiller Begleiter für Rituale\, Übergänge ode
 r einfach für Momente\, in denen du bei dir ankommen möchtest.\n\n&#x1f5
 6f\; Ein Tag\, der bleibt\nDu gehst nach Hause mit:\ndeiner handgefertigt
 en Räucherschale\ndeiner persönlichen Räuchermischung\nWissen\, das di
 ch weiter begleitet\nund einem Gefühl von Erdung\, Klarheit und Verbunden
 heit.\n\n&#x1f48c\; Praktische Informationen\nDatum: 19.09.2026\nZeit: 09
 :00– 15:00\nPreis: CHF 195.–\n(inkl. Ton\, Brennen\, Glasieren\, Cook
 ie-Workshop\, Snacks &amp\; Getränke)\n\nNiveau: Für Anfänger:innen ge
 eignet\nOrt: Aeugst am Albis\, Unterdorf 3\n\n\nHier gehts zur Buchung!\n\
 nMit Herz und Rauchzauber\,Deine Viktoria und Jana\n&nbsp\;\n\n&nbsp\;\n\n
 &nbsp\;\n\n&nbsp\;
ATTACH;FMTTYPE=image/jpeg:https://seinklangnatur.ch/app/uploads/2026/02/ra
 eucher-workshop-flyer-e1773923120593.png
CATEGORIES:Räuchern
END:VEVENT
BEGIN:VTIMEZONE
TZID:Europe/Zurich
X-LIC-LOCATION:Europe/Zurich
BEGIN:DAYLIGHT
DTSTART:20260329T030000
TZOFFSETFROM:+0100
TZOFFSETTO:+0200
TZNAME:CEST
END:DAYLIGHT
END:VTIMEZONE
END:VCALENDAR